{
 "currentVersion": 10.41,
 "serviceDescription": "Orthos/Orthos2023",
 "name": "Orthos/Orthos2023",
 "description": "Orthos/Orthos2023",
 "extent": {
  "xmin": 1588750,
  "ymin": 638750,
  "xmax": 1805000,
  "ymax": 757500,
  "spatialReference": {
   "wkid": 102722,
   "latestWkid": 3734
  }
 },
 "initialExtent": {
  "xmin": 1588750,
  "ymin": 638750,
  "xmax": 1805000,
  "ymax": 757500,
  "spatialReference": {
   "wkid": 102722,
   "latestWkid": 3734
  }
 },
 "fullExtent": {
  "xmin": 1588750,
  "ymin": 638750,
  "xmax": 1805000,
  "ymax": 757500,
  "spatialReference": {
   "wkid": 102722,
   "latestWkid": 3734
  }
 },
 "pixelSizeX": 0.25,
 "pixelSizeY": 0.25,
 "bandCount": 4,
 "pixelType": "U8",
 "minPixelSize": 0,
 "maxPixelSize": 0,
 "copyrightText": "",
 "serviceDataType": "esriImageServiceDataTypeGeneric",
 "minValues": [
  12,
  29,
  32,
  7
 ],
 "maxValues": [
  242,
  238,
  233,
  240
 ],
 "meanValues": [
  126.74436660987935,
  113.9279608524812,
  95.64481144555626,
  150.3887033002909
 ],
 "stdvValues": [
  29.37040671325437,
  28.050493289058675,
  25.735054561773815,
  32.03530818727735
 ],
 "objectIdField": "OBJECTID",
 "fields": [
  {
   "name": "OBJECTID",
   "type": "esriFieldTypeOID",
   "alias": "OBJECTID",
   "domain": null
  },
  {
   "name": "Shape",
   "type": "esriFieldTypeGeometry",
   "alias": "Shape",
   "domain": null
  },
  {
   "name": "Name",
   "type": "esriFieldTypeString",
   "alias": "Name",
   "domain": null,
   "length": 200
  },
  {
   "name": "MinPS",
   "type": "esriFieldTypeDouble",
   "alias": "MinPS",
   "domain": null
  },
  {
   "name": "MaxPS",
   "type": "esriFieldTypeDouble",
   "alias": "MaxPS",
   "domain": null
  },
  {
   "name": "LowPS",
   "type": "esriFieldTypeDouble",
   "alias": "LowPS",
   "domain": null
  },
  {
   "name": "HighPS",
   "type": "esriFieldTypeDouble",
   "alias": "HighPS",
   "domain": null
  },
  {
   "name": "Category",
   "type": "esriFieldTypeInteger",
   "alias": "Category",
   "domain": {
    "type": "codedValue",
    "name": "MosaicCatalogItemCategoryDomain",
    "codedValues": [
     {
      "name": "Unknown",
      "code": 0
     },
     {
      "name": "Primary",
      "code": 1
     },
     {
      "name": "Overview",
      "code": 2
     },
     {
      "name": "Unprocessed Overview",
      "code": 3
     },
     {
      "name": "Partial Overview",
      "code": 4
     },
     {
      "name": "Inactive",
      "code": 5
     },
     {
      "name": "Uploaded",
      "code": 253
     },
     {
      "name": "Incomplete",
      "code": 254
     },
     {
      "name": "Custom",
      "code": 255
     }
    ]
   }
  },
  {
   "name": "Tag",
   "type": "esriFieldTypeString",
   "alias": "Tag",
   "domain": null,
   "length": 100
  },
  {
   "name": "GroupName",
   "type": "esriFieldTypeString",
   "alias": "GroupName",
   "domain": null,
   "length": 100
  },
  {
   "name": "ProductName",
   "type": "esriFieldTypeString",
   "alias": "ProductName",
   "domain": null,
   "length": 100
  },
  {
   "name": "CenterX",
   "type": "esriFieldTypeDouble",
   "alias": "CenterX",
   "domain": null
  },
  {
   "name": "CenterY",
   "type": "esriFieldTypeDouble",
   "alias": "CenterY",
   "domain": null
  },
  {
   "name": "ZOrder",
   "type": "esriFieldTypeInteger",
   "alias": "ZOrder",
   "domain": null
  },
  {
   "name": "Shape_Length",
   "type": "esriFieldTypeDouble",
   "alias": "Shape_Length",
   "domain": null
  },
  {
   "name": "Shape_Area",
   "type": "esriFieldTypeDouble",
   "alias": "Shape_Area",
   "domain": null
  }
 ],
 "capabilities": "Image,Metadata,Catalog",
 "defaultMosaicMethod": "Northwest",
 "allowedMosaicMethods": "NorthWest,Center,LockRaster,ByAttribute,Nadir,Viewpoint,Seamline,None",
 "sortField": "",
 "sortValue": null,
 "mosaicOperator": "First",
 "defaultCompressionQuality": 75,
 "defaultResamplingMethod": "Bilinear",
 "maxImageHeight": 4100,
 "maxImageWidth": 15000,
 "maxRecordCount": 1000,
 "maxDownloadImageCount": 20,
 "maxDownloadSizeLimit": 2048,
 "maxMosaicImageCount": 20,
 "singleFusedMapCache": true,
 "tileInfo": {
  "rows": 256,
  "cols": 256,
  "dpi": 96,
  "format": "MIXED",
  "compressionQuality": 75,
  "origin": {
   "x": -118963900,
   "y": 145491000
  },
  "spatialReference": {
   "wkid": 102722,
   "latestWkid": 3734
  },
  "lods": [
   {
    "level": 0,
    "resolution": 27777.777777777777,
    "scale": 32000000
   },
   {
    "level": 1,
    "resolution": 13888.888888888889,
    "scale": 16000000
   },
   {
    "level": 2,
    "resolution": 6944.444444444444,
    "scale": 8000000
   },
   {
    "level": 3,
    "resolution": 3472.222222222222,
    "scale": 4000000
   },
   {
    "level": 4,
    "resolution": 1736.111111111111,
    "scale": 2000000
   },
   {
    "level": 5,
    "resolution": 868.0555555555555,
    "scale": 1000000
   },
   {
    "level": 6,
    "resolution": 434.02777777777777,
    "scale": 500000
   },
   {
    "level": 7,
    "resolution": 217.01388888888889,
    "scale": 250000
   },
   {
    "level": 8,
    "resolution": 108.50694444444444,
    "scale": 125000
   },
   {
    "level": 9,
    "resolution": 55.55555555555555,
    "scale": 64000
   },
   {
    "level": 10,
    "resolution": 27.777777777777775,
    "scale": 32000
   },
   {
    "level": 11,
    "resolution": 13.888888888888888,
    "scale": 16000
   },
   {
    "level": 12,
    "resolution": 6.944444444444444,
    "scale": 8000
   },
   {
    "level": 13,
    "resolution": 3.472222222222222,
    "scale": 4000
   },
   {
    "level": 14,
    "resolution": 1.736111111111111,
    "scale": 2000
   },
   {
    "level": 15,
    "resolution": 0.8680555555555555,
    "scale": 1000
   },
   {
    "level": 16,
    "resolution": 0.43402777777777773,
    "scale": 500
   },
   {
    "level": 17,
    "resolution": 0.21701388888888887,
    "scale": 250
   }
  ]
 },
 "cacheType": "Map",
 "allowRasterFunction": true,
 "rasterFunctionInfos": [
  {
   "name": "None",
   "description": "A No-Op Function.",
   "help": ""
  }
 ],
 "rasterTypeInfos": [
  {
   "name": "Raster Dataset",
   "description": "Supports all ArcGIS Raster Datasets",
   "help": ""
  }
 ],
 "mensurationCapabilities": "None",
 "hasHistograms": true,
 "hasColormap": false,
 "hasRasterAttributeTable": false,
 "minScale": 0,
 "maxScale": 0,
 "exportTilesAllowed": false,
 "hasMultidimensions": false,
 "supportsStatistics": true,
 "supportsAdvancedQueries": true,
 "editFieldsInfo": null,
 "ownershipBasedAccessControlForRasters": null,
 "allowComputeTiePoints": false,
 "useStandardizedQueries": true,
 "advancedQueryCapabilities": {
  "useStandardizedQueries": true,
  "supportsStatistics": true,
  "supportsOrderBy": true,
  "supportsDistinct": true,
  "supportsPagination": true
 },
 "spatialReference": {
  "wkid": 102722,
  "latestWkid": 3734
 }
}
