View In:
ArcGIS JavaScript
ArcGIS Online map viewer
Google Earth
ArcMap
View Footprint In:
ArcGIS Online map viewer
Service Description: Certified orthophotographs taken by Woolpert in April, 2014 at 3" resolution
Name: Orthos/Orthos_2014
Description: Certified orthophotographs taken by Woolpert in April, 2014 at 3" resolution
Single Fused Map Cache: false
Extent:
XMin: 1588750
YMin: 638750
XMax: 1805000
YMax: 757500
Spatial Reference: 102722
(3734)
Initial Extent:
XMin: 1588750
YMin: 638750
XMax: 1805000
YMax: 757500
Spatial Reference: 102722
(3734)
Full Extent:
XMin: 1588750
YMin: 638750
XMax: 1805000
YMax: 757500
Spatial Reference: 102722
(3734)
Pixel Size X: 0.25
Pixel Size Y: 0.25
Band Count: 4
Pixel Type: U8
RasterFunction Infos: N/A
Mensuration Capabilities: Basic
Has Histograms: true
Has Colormap: false
Has Multi Dimensions : false
Rendering Rule:
Min Scale: 0
Max Scale: 0
Copyright Text: Anita Lopez, Lucas County Auditor's GIS Dept
Service Data Type: esriImageServiceDataTypeGeneric
Min Values: 10, 9, 11, 3
Max Values: 241, 239, 238, 244
Mean Values: 116.7045621242485, 119.7111633266533, 88.93345190380762, 132.59619438877755
Standard Deviation Values: 24.050700339876013, 22.26093977481938, 19.561595330851183, 49.72721465855053
Object ID Field: OBJECTID
Fields:
-
OBJECTID
(
type: esriFieldTypeOID
, alias: OBJECTID
)
-
Shape
(
type: esriFieldTypeGeometry
, alias: Shape
)
-
Name
(
type: esriFieldTypeString
, alias: Name
, length: 50
)
-
MinPS
(
type: esriFieldTypeDouble
, alias: MinPS
)
-
MaxPS
(
type: esriFieldTypeDouble
, alias: MaxPS
)
-
LowPS
(
type: esriFieldTypeDouble
, alias: LowPS
)
-
HighPS
(
type: esriFieldTypeDouble
, alias: HighPS
)
-
Category
(
type: esriFieldTypeInteger
, alias: Category
, Coded Values:
[0: Unknown]
, [1: Primary]
, [2: Overview]
, ...6 more...
)
-
Tag
(
type: esriFieldTypeString
, alias: Tag
, length: 20
)
-
GroupName
(
type: esriFieldTypeString
, alias: GroupName
, length: 50
)
-
ProductName
(
type: esriFieldTypeString
, alias: ProductName
, length: 50
)
-
CenterX
(
type: esriFieldTypeDouble
, alias: CenterX
)
-
CenterY
(
type: esriFieldTypeDouble
, alias: CenterY
)
-
ZOrder
(
type: esriFieldTypeInteger
, alias: ZOrder
)
-
Shape_Length
(
type: esriFieldTypeDouble
, alias: Shape_Length
)
-
Shape_Area
(
type: esriFieldTypeDouble
, alias: Shape_Area
)
Default Mosaic Method: Northwest
Allowed Mosaic Methods: NorthWest,Center,LockRaster,ByAttribute,Nadir,Viewpoint,Seamline,None
SortField:
SortValue: null
Mosaic Operator: First
Default Compression Quality: 75
Default Resampling Method: Bilinear
Max Record Count: 1000
Max Image Height: 4100
Max Image Width: 15000
Max Download Image Count: 20
Max Mosaic Image Count: 20
Allow Raster Function: true
Allow Compute TiePoints: false
Supports Statistics: true
Supports Advanced Queries: true
Use StandardizedQueries: true
Raster Type Infos:
Name: Raster Dataset
Description: Supports all ArcGIS Raster Datasets
Help:
Has Raster Attribute Table: false
Edit Fields Info: null
Ownership Based AccessControl For Rasters: null
Child Resources:
Info
Histograms
Key Properties
Legend
MultiDimensionalInfo
rasterFunctionInfos
Supported Operations:
Export Image
Query
Identify
Measure
Compute Histograms
Compute Statistics Histograms
Get Samples
Compute Class Statistics